Workbook

Sheet inc. summary
C7: MONTH | D7: PARTICULRS | I7: TOTAL
D8: Form | E8: Pass book | F8: Reg. Fee | G8: Next of Kin | H8: Serv. Fee
C9: Jan. | D9: 11850 | E9: 450 | F9: 1250 | G9: 700 | H9: 61800 | I9: =SUM(D9:H9) -> 76050
C10: Feb | D10: =10700 -> 10700 | E10: 150 | F10: 200 | H10: 62900 | I10: =SUM(D10:H10) -> 73950
C11: Mar | D11: 13800 | E11: 300 | F11: 700 | H11: 64000 | I11: =SUM(D11:H11) -> 78800
C12: Apr | D12: =6450 -> 6450 | E12: 600 | F12: 2700 | H12: 65600 | I12: =SUM(D12:H12) -> 75350
C13: May | D13: =11200 -> 11200 | E13: 750 | F13: 2950 | G13: 100 | H13: 67000 | I13: =SUM(D13:H13) -> 82000
C14: Jun | D14: 7950 | E14: 300 | F14: 600 | G14: 100 | H14: 71700 | I14: =SUM(D14:H14) -> 80650
C15: Jul | D15: =9300 -> 9300 | E15: 450 | F15: 1500 | G15: 700 | H15: 72300 | I15: =SUM(D15:H15) -> 84250
C16: Aug | D16: =10700 -> 10700 | E16: 450 | F16: 2500 | G16: 1000 | H16: 74700 | I16: =SUM(D16:H16) -> 89350
C17: Sep | D17: 12150 | E17: 600 | F17: 3800 | H17: 77200 | I17: =SUM(D17:H17) -> 93750
C18: Oct | D18: 13650 | E18: 600 | F18: 3200 | H18: 78300 | I18: =SUM(D18:H18) -> 95750
C19: Nov | D19: 11700 | E19: 450 | F19: 1400 | H19: 79600 | I19: =SUM(D19:H19) -> 93150
C20: Dec | D20: 10200 | E20: 150 | F20: 450 | H20: 82100 | I20: =SUM(D20:H20) -> 92900
C22: TOTAL | D22: =SUM(D9:D20) -> 129650 | E22: =SUM(E9:E20) -> 5250 | F22: =SUM(F9:F20) -> 21250 | G22: =SUM(G9:G20) -> 2600 | H22: =SUM(H9:H20) -> 857200 | I22: =SUM(I9:I20) -> 1015950

Sheet Cover
A14: MAASAI MARA UNIVERSITY CHRISTIAN UNION
A18: ANNUAL REPORT AND FINANCIAL STATEMENTS
A21: FOR THE PERIOD ENDED 31ST OCTOBER 2025

Sheet Contents
B1: Maasai Mara University Christian Union
B2: Contents to the financial statements
B3: As at 31st October 2025
C5: Page
B6: Table of Contents
B8: Auditor's report | C8: 1
B11: Statement of financial position | C11: 2
B14: Statement of comprehensive income | C14: 3
B17: Asset movement schedule | C17: 5
B20: Notes to the financial statements | C20: 6-7

Sheet CU Profile
A1: Maasai Mara University Christian Union
A2: Annual Report and Financial Statements
A3: For the Period ended 31st October 2025
A5: CHRISTIAN UNION INFORMATION
A8: EXECUTIVE COMMITTEE | C8: : | D8: All the CU elected members
C9: : | D9: Treasurer being the Book keeper
C10: : | D10: Internal Audit members to supervise
A13: REGISTERED OFFICE | C13: : | D13: Maasai Mara University | I13: ,
C14: : | D14: P.O. Box 861-20500
C15: : | D15: Narok
A18: EXTERNAL AUDITOR | C18: : | D18: CPA Charles Njoroge
C19: : | D19: Certified Public Accountants of Kenya
C20: : | D20: P.O. Box
D21: NAKURU
D22: 0718236596
A24: PRINCIPAL BANKER | C24: : | D24: KCB Bank
C25: : | D25: Narok

Sheet Exec Responsibility
A1: Maasai Mara University Christian Union
A2: Annual Report and Financial Statements
A3: For the Period ended 31st October 2025
A5: STATEMENT OF EXECUTIVE COMMITTEE RESPONSIBILITIES
A7: The CU Consititution requires the Executive Committee to prepare financial statements for
A8: each financial year that give a true and fair view of the state of affairs of the organisation
A9: as at the end of the spiritual year and of its operating results for that year. It also requires
A10: the Executive Committee to maintain proper accounting records which disclose
A11: with reasonable accuracy the financial position of the CU. It is the responsibility
A12: of the Executive Committee to establish proper internal controls for safeguarding the assets of the
A13: CU.
A15: The Executive Committee accept responsibility for the preparation and fair presentation of financial
... A17: also accept responsibility for:
A19: i. | B19: Designing, implementing and maintaining such internal control as they determine is
B20: necessary to enable the preparation of financial statements that are free from
B21: material misstatement, whether due to fraud or error;
A22: ii. | B22: Selecting and applying appropriate accounting policies
A23: iii. | B23: Making accounting estimates and judgements that are reasonable in the
B24: circumstances.
A26: The Executive Committee are of the opinion that the financial statements give a true and fair view of
A27: the financial position of the CU as at 31st October 2025 and of the
A28: Christian Union's financial performance and cash flows for the year then ended in accordance
A29: with International Financial Reporting Standards.
A32: Nothing has come to the attention of the Executive Committee to indicate that the CU will not
A33: remain a going concern for at least the next twelve months from the date of this statement.
A34: The Executive Committee further confirm that they have not been involved in any illegal act, involved
A35: in drug deals or money laundering which they have not disclosed to the auditor and in the
A36: event any such matters may be detected, the auditor are idemnified.
A38: Executive Committee
A39: Chairman | B39: ……………………………….
A41: Secretary | B41: ……………………………….
A43: Treasurer | B43: ………………………………………..

Sheet Proprietors respon
A1: =Contents!B1 -> Maasai Mara University Christian Union
A2: Proprietors responsibilities
A4: The proprietor is required to prepare financial statements for each financial
A5: year which gives a true and fair view of the state of affairs of the business and
A6: of its operating results for that year. Its also a requirement for him to ensure
A7: that he keeps proper accounting records that disclose with resonable
A8: accuracy the financial position of the business.He is also responsible for
A9: safegurding the assets of the business.
A11: The proprietor accepts responsibility for the financial statements, which have
A12: been prepared using appropriate accounting policies supported by reasonable
A13: and prudent judgments and estimates. The proprietor is of the opinion that
A14: the financial statements give a true and fair view of the state of affairs of the
A15: business and of its operating results. The proprietor further accepts
... A28: Date………………………………

Sheet Auditors report
A1: =Contents!B1 -> Maasai Mara University Christian Union
A2: Report of the independent auditors
A3: =Contents!B3 -> As at 31st October 2025
A4: AUDITORS' REPORT
A6: We have audited the Financial Statements set out on pages 3-6 for the year
A7: ended 31 December 2013 and have obtained all explanations, which, to the
A8: best of our Knowledge and belief, were necessary for the purpose of our audit.
A10: Responsibilities of the Proprietors
A12: As described on page 1, the proprietors are responsible for the preparation of
A13: the financial statements. Our responsibility is to express an opinion on those
A14: financial statements based on our audit.
A16: Basis of Opinion
A18: We conducted our audit in accordance with international Standards on
A19: Auditing. Those standards require that we plan and perform the audit to obtain
A20: reasonable assurance that the financial statements are free from material
... A39: NAKURU.

Sheet Audit Report
A1: REPORT OF THE INDEPENDENT AUDITORS
A2: TO THE MEMBERS OF LAIKIPIA UNIVERSITY CHRISTIAN UNION
A4: Report on the Financial Statements
A5: We have audited the accompanying financial statements of Laikipia University Christian Union, set out on pages 2 to 7 which comprise the statement of financial position as at 30 September 2022, and the statement of comprehensive income, and statement of cashflows for the period then ended, and other explanatory notes.
A7: Executive commitee Responsibility for the Financial Statements
A8: The commitee is responsible for the preparation and fair presentation of these financial statements in accordance with International Financial Reporting Standards and the requirements of the Companies Act. This responsibility includes: designing, implementing and maintaining internal control relevant to the preparation and fair presentation of financial statements that are free from material misstatement, whether due to fraud or error; selecting and applying appropriate accounting policies; and making accounting estimates that are reasonable in the circumstances.
A10: Auditor's Responsibility
A11: Our responsibility is to express an independent opinion of these financial statements based on our audit. We conducted our audit in accordance with International Standards on Auditing. Those standards require that we comply with ethical requirements and plan and perform the audit to obtain reasonable assurance whether the financial statements are free from material misstatement.
A12: An audit involves performing procedures to obtain audit evidence about the amounts and disclosures in the financial statements. The procedures selected depended on our professional judgement, including the assessment of the risks of material misstatement of the financial statements, whether due to fraud or error. In making those risk assessments, we considered the internal control relevant to the Union's preparation and fair presentation of the financial statements in order to design audit procedures that were appropriate in the circumstances, but not for the purpose of expressing an opinion on the Union's internal control. An audit also includes evaluating the appropriateness of accounting policies used and the reasonableness of accounting estimates made by the committee, as well as evaluating the overall presentation of the financial statements.
A13: We believe that the audit evidence we have obtained is sufficient and appropriate to provide a basis for our audit opinion.
A15: Opinion
A16: In our opinion the accompanying financial statements give a true and fair view of the state of financial affairs of the company as at 30th September 2019 and of its profit and cash flows for the period then ended in accordance with International Financial Reporting Standards and the Companies Act.
... A20: As required by the Companies Act we report to you, based on our audit, that:
A21: i) | B21: We have obtained all the information and explanations which to the best of our knowledge and belief were necessary for the purposes of our audit;
A22: ii) | B22: In our opinion, proper books of account have been kept by the union, so far as appears from our examination of those books; and
A23: iii) | B23: The union's balance sheet and profit and loss account are in agreement with the books of account.
A25: Fred M & Associates
A26: Certified Public Accountants(K)
A27: Nakuru

Sheet Auditor Report A
A1: Maasai Mara University Christian Union
A2: Annual Report and Financial Statements
A3: For the Period ended 31st October 2025
A5: REPORT OF THE EXTERNAL AUDITOR
A6: To the members of Maasai Mara University Christian Union
A7: We have audited the accompanying financial statements of Laikipia University Christian Union
A8: the statement of financial position as at 31st October 2025 and the
A9: statement of comprehensive income and fund balances and the statement of cash flows for the year
A10: then ended, and a summary of significant accounting policies and other explanatory information.
A12: Executive Committee responsibility for the financial statements
A14: The Executive Committee for Maasai Mara University Christian Union is responsible for the preparation of
A15: financial statements that give a true and fair view in accordance with the International Financial Reporting
... A46: Reporting Standards and the requirements of the CU Constitution.

Sheet Auditor report B
A1: Maasai Mara University Christian Union
A2: Annual Report and Financial Statements
A3: For the Period ended 31st October 2025
A6: REPORT OF THE EXTERNAL AUDITOR
A8: To the members of Maasai Mara University Christian Union (Continued)
A13: Report on other CU requirements
A15: As required by the CU Constitution I report to you, based on my audit, that:
A17: (i) | B17: I have obtained all the information and explanations which to the best of our knowledge and
B18: belief were necessary for the purposes of our audit;
A19: (ii) | B19: In my opinion proper books of account have been kept by the CU, so far as appears from
B20: our examination of those books. Areas of improvement are detailed in EL(Executive letter)
A21: (iii) | B21: The Christian Union statement of financial position and statement of expenses and Income account
B22: and other comprehensive income are in agreement with the books of account.
A26: Charles Njoroge
A27: Certified Public Accountant of Kenya

Sheet Income & Expense stmt
A1: =Contents!B1 -> Maasai Mara University Christian Union
A2: Statement of Comprehensive Income
A3: =Contents!B3 -> As at 31st October 2025
B5: Notes | C5: 2025
C6: Kshs
A7: Income 2024/2025 | B7: {6} | C7: ='CU Income Summary'!O5 -> 1025568.7
A8: Totals | C8: =C7 -> 1025568.7
A9: Less;Expenditure
A10: Establishments | B10: {2} | C10: ='Note 2.'!D12 -> 511973
A12: Operating expenses | B12: {3} | C12: ='Note 2.'!D34 -> 660848
A14: Financial expenses | B14: {4} | C14: ='Note 2.'!D40 -> 4858
A16: Depreciation | B16: {5} | C16: ='Note 1a.'!G31 -> 183556.75
A17: Totals | C17: =SUM(C10:C16) -> 1361235.8
A19: Deficit for the period | C19: =C8-C17 -> -335667.08

Sheet Balance Sheet
A1: =Contents!B1 -> Maasai Mara University Christian Union
A2: Statement of Financial Position
A3: ='Income & Expense stmt'!A3 -> As at 31st October 2025
C4: 2025
A5: Assets | B5: Notes | C5: Kshs
A6: Non Current Assets
A7: As per schedule | B7: {1} | C7: ='Note 1a.'!G33 -> 1592373.2
A9: Current Assets
A10: Receivables | B10: {8} | C10: ='Note 3'!D15 -> 49000
A11: Cash at bank | B11: As per Bank stmt | C11: ='Bank Summary'!G40 -> 147162.75
A12: Cash at Mobile Money | B12: As per Mpesa stmt
A13: Cash in hand | B13: As per Physical count
C14: =SUM(C10:C13) -> 196162.75
A16: Total Assets | C16: =C7+C14 -> 1788536
A18: Equity & Liabilities
A19: Equity
A20: Capital | B20: {7} | C20: ='Note 3'!D9 -> 1788535.9
A23: Liabilities
A24: Accounts Payables | B24: {9} | C24: ='Note 3'!D20 -> 0
A27: Total Equity and Liabilities | C27: =C20+C24 -> 1788535.9
A29: The Financial Statements were approved on ………………………………
A30: signed by:

Sheet Rec.&Pay
B2: Baraka Development Programme | G2: Page 6.
B3: Statement of Receipts & Payments
B4: For the Period Ended 31st. December 2012
D5: Notes | E5: 2012 | F5: 2011
E6: Kshs | F6: Kshs
B7: Balance B/D
B8: - K.C.B(1116022842) | E8: 1106 | F8: 0
B9: - K.C.B(1116631156) | E9: 211 | F9: 0
B10: - Cash in Hand | E10: =5940-E9-E8 -> 4623 | F10: 0
B11: Loan From Directors | E11: =400000 -> 400000
B12: Receipts | D12: 3 | E12: ='inc. summary'!I22 -> 1015950 | F12: 0
B13: TOTALS | E13: =SUM(E8:E12) -> 1421890
B15: Payments
B16: ='Exp. summary'!B2 -> Office & Misc Expes | E16: ='Exp. summary'!B15 -> 991352 | F16: 0
B17: ='Exp. summary'!C2 -> Rent | E17: ='Exp. summary'!C15 -> 1056000 | F17: 0
B18: ='Exp. summary'!D2 -> Salaries & Wages | E18: ='Exp. summary'!D15 -> 2964000 | F18: 0
B19: ='Exp. summary'!E2 -> Tel & Postage | E19: ='Exp. summary'!E15 -> 1213500 | F19: 0
B20: ='Exp. summary'!F2 -> Tras & Acc | E20: ='Exp. summary'!F15 -> 1363480 | F20: 0
B21: ='Exp. summary'!G2 -> Stat,Printing & Rep | E21: ='Exp. summary'!G15 -> 1133030 | F21: 0
B22: ='Exp. summary'!H2 -> Prom & Adverts | E22: ='Exp. summary'!H15 -> 1269600 | F22: 0
B23: ='Exp. summary'!K2 -> Bank Charges | E23: ='Exp. summary'!K15 -> 598248 | F23: 0
B24: Loan Interest | E24: ='Exp. summary'!#REF! -> #REF! | F24: 0
B25: Loans Disbursed | E25: =300000 -> 300000
B26: Desk jet Printer | E26: ='Exp. summary'!F20 -> 0 | F26: 0
B27: Totals | E27: =SUM(E16:E26) -> #REF! | F27: 0
B29: Surplus/(Deficit) | E29: =E13-E27 -> #REF! | F29: =F12-F27 -> 0
B31: Balance C/D
B32: - K.C.B(1116022842) | E32: 1326 | F32: 0
B33: - K.C.B(1116631156) | E33: 11133 | F33: 0
B34: - Cash in Hand | E34: =E29-E32-E33 -> #REF! | F34: 0
E35: =SUM(E32:E34) -> #REF! | F35: =SUM(F32:F34) -> 0

Sheet NOTE 1.
A2: Baraka Development Programme | J2: Page 7.
A3: Financial statements
A4: For the year ended 31st December 2012
A6: NOTES
A8: 1 | B8: ACCOUNTING POLICY
B9: The accounts are prepared under the historical cost convention
B11: FIXED ASSETS AND DEPRECIATION
B12: Fixed assets are stated at cost less accumulated depreciation
B13: Depreciation is calculated on reducing balance methods at rates intended to write off the
B14: cost of assets over their useful lives at the following rates
C16: -Furniture & fittings | F16: 0.125
C17: -Computers & Acessories | F17: 0.3

Sheet Note 1a.
A1: =Contents!B1 -> Maasai Mara University Christian Union
A2: Notes
A3: NOTES
A4: 1 | B4: Accounting Policy
B5: The accounts are prepared under the historical cost convention
B6: Fixed assets and depreciation
B7: Fixed assets are stated at cost less accumulated depreciation
B8: Depreciation is calculated on reducing balance methods at rates intended to write off the
B9: cost of assets over their useful lives at the following rates
B10: Equipment | D10: 0.125
B11: Books | D11: 0.04
B12: Cutlery | D12: 0.05
B13: Music equipments | D13: 0.1
B14: Accounting presentations
B15: The accounts are presented in Kenya Shillings(KSHS)
B16: Cash & Cash Equivalent
B17: Cash & Cash Equivalent comprises of:
C18: Cash in hand | D18: ='Balance Sheet'!C12+'Balance Sheet'!C13 -> 0
C19: Cash at bank | D19: ='Balance Sheet'!C11 -> 147162.75
D20: =SUM(D18:D19) -> 147162.75
B21: Assets Schedule | C21: {Note 1}
B22: Particulars | C22: Technical & Editorial | D22: Books | E22: Hospitality | F22: Ushering & Discipleship | G22: Totals
C23: Instruments | E23: Cutlery | F23: Equipments
B24: Cost: | C24: Kshs | D24: Kshs | E24: Kshs | F24: Kshs | G24: Kshs
B25: Bal b/d | C25: 1068847 | E25: 68870 | F25: 373015 | G25: =SUM(C25:F25) -> 1510732
B26: Acquisition | C26: ='All Transactions'!F36 -> 240323 | E26: ='All Transactions'!I27 -> 7200 | F26: ='All Transactions'!I34+'All Transactions'!I40 -> 17675 | G26: =SUM(C26:F26) -> 265198
B27: Disposal | C27: 0 | D27: 0 | E27: 0 | F27: 0 | G27: =SUM(C27:F27) -> 0
B28: Issue | G28: =SUM(C28:F28) -> 0
B29: As At 31/10/2025 | C29: =SUM(C25:C28) -> 1309170 | D29: =SUM(D25:D28) -> 0 | E29: =SUM(E25:E28) -> 76070 | F29: =SUM(F25:F28) -> 390690 | G29: =SUM(C29:F29) -> 1775930
G30: =SUM(C30:F30) -> 0
B31: Depreciation Charge for the year | C31: =D13*C29 -> 130917 | D31: =D29*D11 -> 0 | E31: =E29*D12 -> 3803.5 | F31: =F29*D10 -> 48836.25 | G31: =SUM(C31:F31) -> 183556.75
B32: Net book value: | G32: =SUM(C32:F32) -> 0
B33: As At 31/10/2025 | C33: =C29-C31 -> 1178253 | D33: =D29-D31 -> 0 | E33: =E29-E31 -> 72266.5 | F33: =F29-F31 -> 341853.75 | G33: =SUM(C33:F33) -> 1592373.2

Sheet Note 2.
A1: =Contents!B1 -> Maasai Mara University Christian Union
A2: Notes | BG2: 8kjhhhlhljkhkjhbhgll0o8ioi-i-oppiippppppppppppppppp,n,nn.
A3: NOTES(CONTD) | D3: 2025
D4: Kshs
A5: 2 | B5: Establishment Expenses
C6: Repairs & maintenance of Instruments | D6: ='All Transactions'!I22 -> 190900
C7: Displeship ministry equipment | D7: ='All Transactions'!I40 -> 10675
C8: Hospitality equipment | D8: ='All Transactions'!I27 -> 7200
C9: Focus subscription/RSEC Reg | D9: ='All Transactions'!B28 -> 55875
C10: Ushering Ministry equipments | D10: ='All Transactions'!I34 -> 7000
C11: Acquisition/Purchase of assets | D11: ='Note 1a.'!C26 -> 240323
D12: =SUM(D6:D11) -> 511973
A13: 3 | B13: Operating Expenses
C14: Missions (E Team & Support) | D14: ='All Transactions'!B13+'All Transactions'!B35+'All Transactions'!B18+'All Transactions'!B22 -> 195795
C15: Telephone & postage (Communication) | D15: ='All Transactions'!B3 -> 27060
C16: Stationery, photocopy & typesetting | D16: ='All Transactions'!F20 -> 6755
C17: Transport | D17: ='All Transactions'!B4 -> 6250
C18: Speakers accomodation | D18: ='All Transactions'!F40 -> 13500
C19: Bookkeeping & auditing
C20: Mission pre-visit
C21: Cash from Ministries | D21: ='All Transactions'!B13 -> 93065
C22: Tithe To FOCUS
C23: Condolences fee
C24: Kitty Support
C25: Miscilleneous exp
C26: Speakers appreciation | D26: ='All Transactions'!F39 -> 89000
C27: Ministries expenses | D27: ='All Transactions'!F18 -> 229423
C28: BS Guides
C29: Donation/Charity
C30: STEM Convocation
C31: Hatua Land Project
C32: Hire of equipments
C33: Literature
D34: =SUM(D14:D33) -> 660848
A37: 4 | B37: Financial Expenses
C38: Mpesa charges
C39: Bank charges | D39: ='Bank Summary'!C39 -> 4858
D40: =D38+D39 -> 4858
A41: 5 | B41: Depreciation
C42: Charge for the year
...

Sheet Exp. summary
C1: BARAKA DEVELOPMENT PROGRAMME EXPENDITURE SCHEDULE FOR THE YEAR ENDED 31ST DEC 2012
A2: MONTH | B2: Office & Misc Expes | C2: Rent | D2: Salaries & Wages | E2: Tel & Postage | F2: Tras & Acc | G2: Stat,Printing & Rep | H2: Prom & Adverts | I2: LICENSES | J2: Repairs & maintenance | K2: Bank Charges | L2: TOTAL
A3: Jan | B3: =122000 -> 122000 | C3: =88000 -> 88000 | D3: 247000 | E3: =101125 -> 101125 | F3: =113623.33 -> 113623.33 | G3: =94419.17 -> 94419.17 | H3: 105800 | I3: =129153 -> 129153 | J3: 111850 | K3: 49854 | L3: =SUM(B3:K3) -> 1162824.5
A4: Feb | B4: =122000 -> 122000 | C4: =88000 -> 88000 | D4: 247000 | E4: =101125 -> 101125 | F4: =113623.33 -> 113623.33 | G4: =94419.17 -> 94419.17 | H4: 105800 | I4: =129153 -> 129153 | J4: 111850 | K4: 49854 | L4: =SUM(B4:K4) -> 1162824.5
A5: Mar | B5: =122000 -> 122000 | C5: =88000 -> 88000 | D5: 247000 | E5: =101125 -> 101125 | F5: =113623.33 -> 113623.33 | G5: =94419.17 -> 94419.17 | H5: 105800 | I5: =129153 -> 129153 | J5: 111850 | K5: 49854 | L5: =SUM(B5:K5) -> 1162824.5
A6: Apr | B6: =122000 -> 122000 | C6: =88000 -> 88000 | D6: 247000 | E6: =101125 -> 101125 | F6: =113623.33 -> 113623.33 | G6: =94419.17 -> 94419.17 | H6: 105800 | I6: =129153 -> 129153 | J6: 111850 | K6: 49854 | L6: =SUM(B6:K6) -> 1162824.5
A7: May | B7: =122000 -> 122000 | C7: =88000 -> 88000 | D7: 247000 | E7: =101125 -> 101125 | F7: =113623.33 -> 113623.33 | G7: =94419.17 -> 94419.17 | H7: 105800 | I7: =129153 -> 129153 | J7: 111850 | K7: 49854 | L7: =SUM(B7:K7) -> 1162824.5
A8: Jun | B8: =122000 -> 122000 | C8: =88000 -> 88000 | D8: 247000 | E8: =101125 -> 101125 | F8: =113623.33 -> 113623.33 | G8: =94419.17 -> 94419.17 | H8: 105800 | I8: =129153 -> 129153 | J8: 111850 | K8: 49854 | L8: =SUM(B8:K8) -> 1162824.5
A9: Jul | B9: =122000 -> 122000 | C9: =88000 -> 88000 | D9: 247000 | E9: =101125 -> 101125 | F9: =113623.33 -> 113623.33 | G9: =94419.17 -> 94419.17 | H9: 105800 | I9: =129153 -> 129153 | J9: 111850 | K9: 49854 | L9: =SUM(B9:K9) -> 1162824.5
A10: Aug | B10: =122000 -> 122000 | C10: =88000 -> 88000 | D10: 247000 | E10: =101125 -> 101125 | F10: =113623.33 -> 113623.33 | G10: =94419.17 -> 94419.17 | H10: 105800 | I10: =129153 -> 129153 | J10: 111850 | K10: 49854 | L10: =SUM(B10:K10) -> 1162824.5
A11: Sep | B11: =1520+2318 -> 3838 | C11: =88000 -> 88000 | D11: 247000 | E11: =101125 -> 101125 | F11: =113623.33 -> 113623.33 | G11: =94419.17 -> 94419.17 | H11: 105800 | I11: =129153 -> 129153 | J11: 111850 | K11: 49854 | L11: =SUM(B11:K11) -> 1044662.5
A12: Oct | B12: =1520+2318 -> 3838 | C12: =88000 -> 88000 | D12: 247000 | E12: =101125 -> 101125 | F12: =113623.33 -> 113623.33 | G12: =94419.17 -> 94419.17 | H12: 105800 | I12: =129153 -> 129153 | J12: 111850 | K12: 49854 | L12: =SUM(B12:K12) -> 1044662.5
A13: Nov | B13: =1520+2318 -> 3838 | C13: =88000 -> 88000 | D13: 247000 | E13: =101125 -> 101125 | F13: =113623.33 -> 113623.33 | G13: =94419.17 -> 94419.17 | H13: 105800 | I13: =129153 -> 129153 | J13: 111850 | K13: 49854 | L13: =SUM(B13:K13) -> 1044662.5
A14: Dec | B14: =1520+2318 -> 3838 | C14: =88000 -> 88000 | D14: 247000 | E14: =101125 -> 101125 | F14: =113623.33 -> 113623.33 | G14: =94419.17 -> 94419.17 | H14: 105800 | I14: =129153 -> 129153 | J14: 111850 | K14: 49854 | L14: =SUM(B14:K14) -> 1044662.5
A15: TOTAL | B15: =SUM(B3:B14) -> 991352 | C15: =SUM(C3:C14) -> 1056000 | D15: =SUM(D3:D14) -> 2964000 | E15: =SUM(E3:E14) -> 1213500 | F15: =SUM(F3:F14) -> 1363480 | G15: =SUM(G3:G14) -> 1133030 | H15: =SUM(H3:H14) -> 1269600 | I15: =SUM(I3:I14) -> 1549836 | ... L15: =SUM(L3:L14) -> 13481246

Sheet 1 yr projections
A1: SIMON MACHARIA NJENGA
A2: T/A
A3: PYLOTECH ELECTRICALS
A4: PROJECTED CASHFLOW STATEMENT IN "000" KSHS.
A5: FOR TWELVE MONTHS MAR. 2014 TO FEB. 2015
A6: SOURCES OF INCOME | D6: MAR | E6: APR | F6: MAY | G6: JUN | H6: JUL | I6: AUG | J6: SEP | K6: OCT | L6: NOV | M6: DEC | N6: JAN | O6: FEB | P6: TOTAL
A7: SALES | D7: 17666 | E7: =1.01*D7 -> 17842.66 | F7: =1.01*E7 -> 18021.087 | G7: =1.01*F7 -> 18201.297 | H7: =1.01*G7 -> 18383.31 | I7: =1.01*H7 -> 18567.144 | J7: =1.01*I7 -> 18752.815 | K7: =1.01*J7 -> 18940.343 | L7: =1.01*K7 -> 19129.747 | M7: =1.01*L7 -> 19321.044 | N7: =0.99*M7 -> 19127.834 | O7: =1.01*N7 -> 19319.112 | P7: =SUM(D7:O7) -> 223272.39
A8: LOAN | D8: 20000 | P8: =SUM(D8:O8) -> 20000
A9: TOTAL INCOME | D9: =SUM(D7:D8) -> 37666 | E9: =SUM(E7:E8) -> 17842.66 | F9: =SUM(F7:F8) -> 18021.087 | G9: =SUM(G7:G8) -> 18201.297 | H9: =SUM(H7:H8) -> 18383.31 | I9: =SUM(I7:I8) -> 18567.144 | J9: =SUM(J7:J8) -> 18752.815 | K9: =SUM(K7:K8) -> 18940.343 | ... P9: =SUM(P7:P8) -> 243272.39
A11: EXPENSES
A12: PURCHASES | D12: =17245 -> 17245 | E12: =0.99*D12 -> 17072.55 | F12: =1.01*E12 -> 17243.275 | G12: =1.01*F12 -> 17415.708 | H12: =1.01*G12 -> 17589.865 | I12: =1.01*H12 -> 17765.764 | J12: =1.01*I12 -> 17943.422 | K12: =1.01*J12 -> 18122.856 | L12: =1.01*K12 -> 18304.084 | M12: =1.01*L12 -> 18487.125 | N12: =0.99*M12 -> 18302.254 | O12: =1.01*N12 -> 18485.277 | P12: =SUM(D12:O12) -> 213977.18
A13: SALARIES AND WAGES | D13: 36 | E13: =1.01*D13 -> 36.36 | F13: =1.02*E13 -> 37.0872 | G13: =1.02*F13 -> 37.828944 | H13: =1.02*G13 -> 38.585523 | I13: =1.02*H13 -> 39.357233 | J13: =1.02*I13 -> 40.144378 | K13: =1.02*J13 -> 40.947266 | L13: =1.02*K13 -> 41.766211 | M13: =1.02*L13 -> 42.601535 | N13: =0.99*M13 -> 42.17552 | O13: =1.02*N13 -> 43.01903 | P13: =SUM(D13:O13) -> 475.87284
A14: SECURITY | D14: =3.2 -> 3.2 | E14: =1.1*D14 -> 3.52 | F14: =1.04*E14 -> 3.6608 | G14: =1.04*F14 -> 3.807232 | H14: =1.04*G14 -> 3.9595213 | I14: =1.04*H14 -> 4.1179021 | J14: =1.04*I14 -> 4.2826182 | K14: =1.04*J14 -> 4.4539229 | L14: =1.04*K14 -> 4.6320799 | M14: =1.04*L14 -> 4.8173631 | ... O14: =1.04*N14 -> 5.2104599 | P14: =SUM(D14:O14) -> 50.671957
A15: RENT | D15: 20.1 | E15: =1.01*D15 -> 20.301 | F15: =1.01*E15 -> 20.50401 | G15: =1.01*F15 -> 20.70905 | H15: =1.01*G15 -> 20.916141 | I15: =1.01*H15 -> 21.125302 | J15: =1.01*I15 -> 21.336555 | K15: =1.01*J15 -> 21.549921 | L15: =1.01*K15 -> 21.76542 | ... O15: =1.01*N15 -> 22.424934 | P15: =SUM(D15:O15) -> 254.91831
A16: M/VEHICLE EXP | D16: =26.4 -> 26.4 | E16: =1.09*D16 -> 28.776 | F16: =1.09*E16 -> 31.36584 | G16: =1.09*F16 -> 34.188766 | H16: =1.09*G16 -> 37.265755 | I16: =1.09*H16 -> 40.619672 | J16: =1.09*I16 -> 44.275443 | K16: =1.09*J16 -> 48.260233 | L16: =1.09*K16 -> 52.603654 | ... O16: =1.09*N16 -> 68.123257 | P16: =SUM(D16:O16) -> 531.715
A17: TEL & POSTAGE | D17: =17.2 -> 17.2 | E17: =1.08*D17 -> 18.576 | F17: =1.08*E17 -> 20.06208 | G17: =1.08*F17 -> 21.667046 | H17: =1.08*G17 -> 23.40041 | I17: =1.08*H17 -> 25.272443 | J17: =1.08*I17 -> 27.294238 | K17: =1.08*J17 -> 29.477777 | L17: =1.08*K17 -> 31.836 | ... O17: =1.08*N17 -> 40.104191 | P17: =SUM(D17:O17) -> 326.40658
A18: ELECT & WATER | D18: =7.6 -> 7.6 | E18: =1.04*D18 -> 7.904 | F18: =1.07*E18 -> 8.45728 | G18: =1.07*F18 -> 9.0492896 | H18: =1.07*G18 -> 9.6827399 | I18: =1.07*H18 -> 10.360532 | J18: =1.07*I18 -> 11.085769 | K18: =1.07*J18 -> 11.861773 | L18: =1.07*K18 -> 12.692097 | M18: =1.07*L18 -> 13.580544 | ... O18: =1.07*N18 -> 15.548364 | P18: =SUM(D18:O18) -> 132.35357
A19: PRINT &STATIONERY | D19: =11.1 -> 11.1 | E19: =1.05*D19 -> 11.655 | F19: =1.05*E19 -> 12.23775 | G19: =1.05*F19 -> 12.849638 | H19: =1.05*G19 -> 13.492119 | I19: =1.05*H19 -> 14.166725 | J19: =1.05*I19 -> 14.875062 | K19: =1.05*J19 -> 15.618815 | L19: =1.05*K19 -> 16.399755 | ... O19: =1.05*N19 -> 18.984767 | P19: =SUM(D19:O19) -> 176.6801
A20: LICENSES & INSURANCE | D20: =17.6 -> 17.6 | E20: =1.09*D20 -> 19.184 | F20: =1.09*E20 -> 20.91056 | G20: =1.09*F20 -> 22.79251 | H20: =1.09*G20 -> 24.843836 | I20: =1.09*H20 -> 27.079782 | J20: =1.09*I20 -> 29.516962 | K20: =1.09*J20 -> 32.173489 | L20: =1.09*K20 -> 35.069102 | ... O20: =1.09*N20 -> 45.415505 | P20: =SUM(D20:O20) -> 354.47667
A21: ACCOUNTANCY | D21: =5 -> 5 | E21: =5 -> 5 | F21: =5 -> 5 | G21: =5 -> 5 | H21: =5 -> 5 | I21: =5 -> 5 | J21: =5 -> 5 | K21: =5 -> 5 | ... O21: =5 -> 5 | P21: =SUM(D21:O21) -> 60
A22: DEPRECIATION | D22: =47.8 -> 47.8 | E22: =0.98*D22 -> 46.844 | F22: =0.98*E22 -> 45.90712 | G22: =0.98*F22 -> 44.988978 | H22: =0.98*G22 -> 44.089198 | I22: =0.98*H22 -> 43.207414 | J22: =0.98*I22 -> 42.343266 | K22: =0.98*J22 -> 41.4964 | L22: =0.98*K22 -> 40.666472 | ... O22: =0.98*N22 -> 38.274959 | P22: =SUM(D22:O22) -> 514.52703
A23: BANK CHARGES | D23: =48 -> 48 | E23: =1.01*D23 -> 48.48 | F23: =1.01*E23 -> 48.9648 | G23: =1.01*F23 -> 49.454448 | H23: =1.01*G23 -> 49.948992 | I23: =1.01*H23 -> 50.448482 | J23: =1.01*I23 -> 50.952967 | K23: =1.01*J23 -> 51.462497 | L23: =1.01*K23 -> 51.977122 | ... O23: =1.01*N23 -> 53.552081 | P23: =SUM(D23:O23) -> 608.76014
A24: LOAN REPAYMENT | D24: 0 | E24: =20000/60 -> 333.33333 | F24: =20000/60 -> 333.33333 | G24: =20000/60 -> 333.33333 | H24: =20000/60 -> 333.33333 | I24: =20000/60 -> 333.33333 | J24: =20000/60 -> 333.33333 | K24: =20000/60 -> 333.33333 | L24: =20000/60 -> 333.33333 | ... O24: =20000/60 -> 333.33333 | P24: =SUM(D24:O24) -> 3666.6667
A25: LOANS INTEREST | D25: 0 | E25: =12.5/100*D8/60 -> 41.666667 | F25: =E25 -> 41.666667 | G25: =F25 -> 41.666667 | H25: =G25 -> 41.666667 | I25: =H25 -> 41.666667 | J25: =I25 -> 41.666667 | K25: =J25 -> 41.666667 | L25: =K25 -> 41.666667 | M25: =L25 -> 41.666667 | ... O25: =N25 -> 41.666667 | P25: =SUM(D25:O25) -> 458.33333
A27: Total Expenses | D27: =SUM(D12:D25) -> 17485 | E27: =SUM(E12:E25) -> 17694.15 | F27: =SUM(F12:F25) -> 17872.433 | G27: =SUM(G12:G25) -> 18053.044 | H27: =SUM(H12:H25) -> 18236.05 | I27: =SUM(I12:I25) -> 18421.519 | J27: =SUM(J12:J25) -> 18609.529 | K27: =SUM(K12:K25) -> 18800.158 | ... P27: =SUM(P12:P25) -> 221588.56
A28: Surplus/Deficit | D28: =D9-D27 -> 20181 | E28: =E9-E27 -> 148.51 | F28: =F9-F27 -> 148.65366 | G28: =G9-G27 -> 148.25331 | H28: =H9-H27 -> 147.26087 | I28: =I9-I27 -> 145.62407 | J28: =J9-J27 -> 143.28609 | K28: =K9-K27 -> 140.18519 | ... P28: =P9-P27 -> 21683.829
A29: Opening Balance | D29: 0 | E29: =D30 -> 20181 | F29: =E30 -> 20329.51 | G29: =F30 -> 20478.164 | H29: =G30 -> 20626.417 | I29: =H30 -> 20773.678 | J29: =I30 -> 20919.302 | K29: =J30 -> 21062.588 | L29: =K30 -> 21202.773 | ... P29: =O30 -> 21683.829
A30: Closing Balance | D30: =D28+D29 -> 20181 | E30: =SUM(E28:E29) -> 20329.51 | F30: =SUM(F28:F29) -> 20478.164 | G30: =SUM(G28:G29) -> 20626.417 | H30: =SUM(H28:H29) -> 20773.678 | I30: =SUM(I28:I29) -> 20919.302 | J30: =SUM(J28:J29) -> 21062.588 | K30: =SUM(K28:K29) -> 21202.773 | L30: =SUM(L28:L29) -> 21339.027 | ... O30: =SUM(O28:O29) -> 21683.829
A32: NOTES AND ASSUMPTIONS
A33: 1 | B33: Loan of kshs(20,000,000) twenty millions to support business operations
A34: 2 | B34: The loan is repayable within a period of 5 yrs | L34: …………………..SIMON MACHARIA NJENGA
A35: 3 | B35: Loan interest is at the rate of 21% reducing balance | L35: MANAGING DIRECTOR

Sheet 3yrs
B2: Simon Macharia Njenga
B3: T/a
B4: Pylotech Electricals
B5: Projected Consolidated Cashflow Statement in "000" Kshs.
B6: For three years 2014 to 2017
B7: Sources of Incomes | C7: 2014/15 | D7: 2015/16 | E7: 2016/17 | F7: Total
B8: Sales | C8: ='1 yr projections'!P7 -> 223272.39 | D8: =1.12*C8 -> 250065.08 | E8: =1.14*C8 -> 254530.53 | F8: =SUM(C8:E8) -> 727868
B9: Loan | C9: 20000 | D9: 0 | E9: 0 | F9: =SUM(C9:E9) -> 20000
B10: Total Incomes | C10: =SUM(C8:C9) -> 243272.39 | D10: =SUM(D8:D9) -> 250065.08 | E10: =SUM(E8:E9) -> 254530.53 | F10: =SUM(F8:F9) -> 747868
B11: Expenses
B12: Purchases | C12: ='1 yr projections'!P12 -> 213977.18 | D12: =1.01*C12 -> 216116.95 | E12: =1.01*D12 -> 218278.12 | F12: =SUM(C12:E12) -> 648372.26
B13: Salaries & Wages | C13: ='1 yr projections'!P13 -> 475.87284 | D13: =1.01*C13 -> 480.63157 | E13: =1.01*D13 -> 485.43788 | F13: =SUM(C13:E13) -> 1441.9423
B14: Security | C14: ='1 yr projections'!P14 -> 50.671957 | D14: =1.01*C14 -> 51.178677 | E14: =1.01*D14 -> 51.690463 | F14: =SUM(C14:E14) -> 153.5411
B15: Rent | C15: ='1 yr projections'!P15 -> 254.91831 | D15: =1.01*C15 -> 257.46749 | E15: =1.01*D15 -> 260.04217 | F15: =SUM(C15:E15) -> 772.42797
B16: M/vehicle Exp | C16: ='1 yr projections'!P16 -> 531.715 | D16: =1.01*C16 -> 537.03215 | E16: =1.01*D16 -> 542.40247 | F16: =SUM(C16:E16) -> 1611.1496
B17: Tel and postage | C17: ='1 yr projections'!P17 -> 326.40658 | D17: =1.01*C17 -> 329.67064 | E17: =1.01*D17 -> 332.96735 | F17: =SUM(C17:E17) -> 989.04456
B18: Electricity & Water | C18: ='1 yr projections'!P18 -> 132.35357 | D18: =1.01*C18 -> 133.6771 | E18: =1.01*D18 -> 135.01388 | F18: =SUM(C18:E18) -> 401.04455
B19: Printing & Stationeries | C19: ='1 yr projections'!P19 -> 176.6801 | D19: =1.01*C19 -> 178.44691 | E19: =1.01*D19 -> 180.23137 | F19: =SUM(C19:E19) -> 535.35838
B20: Licenses & Insurance | C20: ='1 yr projections'!P20 -> 354.47667 | D20: =1.01*C20 -> 358.02144 | E20: =1.01*D20 -> 361.60165 | F20: =SUM(C20:E20) -> 1074.0998
B21: Accountancy | C21: ='1 yr projections'!P21 -> 60 | D21: =1.01*C21 -> 60.6 | E21: =1.01*D21 -> 61.206 | F21: =SUM(C21:E21) -> 181.806
B22: Depreciation | C22: ='1 yr projections'!P22 -> 514.52703 | D22: =0.97*C22 -> 499.09122 | E22: =1.01*D22 -> 504.08213 | F22: =SUM(C22:E22) -> 1517.7004
B23: Bank Charges | C23: ='1 yr projections'!P23 -> 608.76014 | D23: =1.01*C23 -> 614.84775 | E23: =1.01*D23 -> 620.99622 | F23: =SUM(C23:E23) -> 1844.6041
B24: Loan Principal Repayment | C24: ='1 yr projections'!P24 -> 3666.6667 | D24: =C24 -> 3666.6667 | E24: =D24 -> 3666.6667 | F24: =SUM(C24:E24) -> 11000
B25: Loans Interest | C25: ='1 yr projections'!P25 -> 458.33333 | D25: =C25 -> 458.33333 | E25: =D25 -> 458.33333 | F25: =SUM(C25:E25) -> 1375
F26: =SUM(C26:E26) -> 0
B27: Total Expenses | C27: =SUM(C12:C26) -> 221588.56 | D27: =SUM(D12:D26) -> 223742.62 | E27: =SUM(E12:E26) -> 225938.79 | F27: =SUM(F12:F26) -> 671269.97
B28: Surplus/Deficit | C28: =C10-C27 -> 21683.829 | D28: =D10-D27 -> 26322.462 | E28: =E10-E27 -> 28591.734 | F28: =F10-F27 -> 76598.025
B29: Opening Balance | C29: 0 | D29: =C30 -> 21683.829 | E29: =D30 -> 48006.291
B30: Closing Balance | C30: =SUM(C28:C29) -> 21683.829 | D30: =SUM(D28:D29) -> 48006.291 | E30: =SUM(E28:E29) -> 76598.025
B34: …………………………………..Simon M Njenga
B35: Managing Director

Sheet Tax comp
B4: SELF ASSESMENT TABLE
B5: Net profit for the year ended 31.12.2015 | G5: ='Note 2.'!#REF! -> #REF!
C7: Kshs | D7: Rate | G7: Total
B8: First | C8: 121968 | D8: 0.1 | G8: =C8*D8 -> 12196.8
B9: Bal | C9: =G5-C8 -> #REF! | D9: 0.15 | G9: =C9*D9 -> #REF!
E11: Total tax | G11: =SUM(G8:G9) -> #REF!
D12: less: | E12: Personal relief | G12: =13944 -> 13944
E13: Insurance relief | G13: 0
E15: Tax due | G15: =G11-G12-G13 -> #REF!

Sheet Tax
B2: Tax Shedule for the year ended 31st December 2016.
B4: Net profit as per the accounts | G4: 141194
B6: First | C6: 121968 | E6: 0.1 | G6: =C6*E6 -> 12196.8
C7: =G4-C6 -> 19226 | E7: 0.15 | G7: =C7*E7 -> 2883.9
G8: =SUM(G6:G7) -> 15080.7
D9: Less; | E9: Personal relief | G9: =-13944 -> -13944
E10: Tax Due | G10: =G8+G9 -> 1136.7

Sheet Note 3
A1: =Contents!B1 -> Maasai Mara University Christian Union
A2: Notes
A3: ='Note 1a.'!A3 -> NOTES
A4: NOTES (CONTD) | D4: 2025
D5: Kshs
A6: 7 | B6: Capital A/c
C7: Net surplus | D7: ='Income & Expense stmt'!C19 -> -335667.08
C8: Adjustments | D8: 2124203
C9: Bal c/d | D9: =D7+D8 -> 1788535.9
A11: 8 | B11: Receivables
C12: Bal b/d
C13: Debtors | D13: 49000
C14: Less bad debts written off
C15: Bal c/d | D15: =SUM(D12:D14) -> 49000
A18: 9 | B18: Payables
C19: Bal b/d | D19: 0
C20: Accounting fees
D21: =SUM(D19:D20) -> 0

Sheet Assets  Register 
B1: MAASAI MARA UNIV CU ASSETS AS AT 31st October 2025
B2: Asset description | C2: Quantity | D2: Amount | E2: Ministry
B3: Speckon Cables | C3: 13 | D3: 29900 | E3: Technical Ministry
B4: TRS Cables( Jack to jack) | C4: 8 | D4: 6400 | E4: Technical Ministry
B5: XLR CABLES | C5: 18 | D5: 12600 | E5: Technical Ministry
B6: Power Cables | C6: 8 | D6: 3680 | E6: Technical Ministry
B7: Microphone Cables (Tall XLR) | C7: 10 | D7: 9000 | E7: Technical Ministry
B8: Power Extensions | C8: 6 | D8: 3300 | E8: Technical Ministry
B9: Tambourine | C9: 1 | D9: 400 | E9: Technical Ministry
B10: Battery Chargers | C10: 2 | D10: 1600 | E10: Technical Ministry
B11: Batteries Energizer(4) Normal(12) | C11: 16 | D11: 12000 | E11: Technical Ministry
B12: Keyboard Adapter | C12: 3 | D12: 3600 | E12: Technical Ministry
B13: Sound Table | C13: 1 | D13: 1500 | E13: Technical Ministry
B14: Boxes | C14: 2 | D14: 800 | E14: Technical Ministry
... B63: Camera stand (Tripod) | C63: 1 | D63: 3000 | E63: Editorial Ministry
B64: Camera accessories (HDMI adapter, Shoe, Phone holder, Bag) | D64: 4000 | E64: Editorial Ministry
B65: External hard disk (1TB) | C65: 1 | D65: 8000 | E65: Editorial Ministry
B66: Plastic plates | C66: 231 | D66: 3465 | E66: Hospitality Department
B67: Disposable plates | C67: 137 | D67: 1370 | E67: Hospitality Department
B68: CK Foundation cups | C68: 74 | D68: 2220 | E68: Hospitality Department
B69: Children cups | C69: 47 | D69: 1410 | E69: Hospitality Department
B70: Big cups | C70: 19 | D70: 760 | E70: Hospitality Department
B71: Other cups | C71: 10 | D71: 300 | E71: Hospitality Department
B72: Trays | C72: 7 | D72: 1050 | E72: Hospitality Department
B73: Chopping board | C73: 1 | D73: 350 | E73: Hospitality Department
B74: Rolling pins | C74: 10 | D74: 1000 | E74: Hospitality Department
B75: Small cooking sticks | C75: 4 | D75: 200 | E75: Hospitality Department
B76: Big cooking stick | C76: 1 | D76: 1000 | E76: Hospitality Department
... B163: Towels | C163: 4 | D163: 1200 | E163: Discipleship Ministry
B164: Total estimated Value | D164: =SUM(D3:D163) -> 1775930

Sheet Bank Summary
A1: MAASAI MARA UNIVERSITY CU BANK TRANSACTIONS SUMMARY 2024/2025 SPIRITUAL YEAR | I1: MONTHLY SUMMARY
A2: Description | B2: Month | C2: Bank charges | D2: Withdrawal | E2: Total withdrawal | F2: Total withdrawal Per Month | G2: Total | I2: Month | J2: Opening Balance | K2: Closing Balance | L2: Income for the month
A3: Opening Balance (as per bank statement) 01/11/2024 | B3: 30/10/2024 | G3: =249185.75 -> 249185.75
A4: Cash Withdrawal & bank charges | B4: 45423 | C4: =147+735 -> 882 | E4: =C4+D4 -> 882 | I4: 45597 | J4: 249185.75 | K4: 214325.75 | L4: =K4-J4+F8 -> 65088
A5: Cash Withdrawal & bank charges | B5: 45454 | C5: =21+105 -> 126 | D5: 59150 | E5: =C5+D5 -> 59276 | I5: 45627 | J5: =K4 -> 214325.75 | K5: 112806.75 | L5: =K5-J5+F11 -> 47001
A6: Cash Withdrawal & bank charges | B6: 15/11/2024 | D6: 15300 | E6: =C6+D6 -> 15300 | I6: 45658 | J6: =K5 -> 112806.75 | K6: 109878.75 | L6: =K6-J6+F15 -> 110572
A7: Cash Withdrawal & bank charges | B7: 23/11/2024 | D7: 3340 | E7: =C7+D7 -> 3340 | I7: 45689 | J7: =K6 -> 109878.75 | K7: 134969.75 | L7: =K7-J7+F19 -> 96019
A8: Cash Withdrawal & bank charges | B8: 30/11/2024 | D8: 21150 | E8: =C8+D8 -> 21150 | F8: =C4+C5+D5+D6+D7+D8 -> 99948 | I8: 45717 | J8: =K7 -> 134969.75 | K8: 147885.75 | L8: =K8-J8+F23 -> 94408
A9: Cash Withdrawal & bank charges | B9: 45485 | D9: 31950 | E9: =C9+D9 -> 31950 | I9: 45748 | J9: =K8 -> 147885.75 | K9: 128920.75 | L9: =K9-J9+F28 -> 126625
A10: Cash Withdrawal & bank charges | B10: 14/12/2024 | D10: 18020 | E10: =C10+D10 -> 18020 | I10: 45778 | J10: =K9 -> 128920.75 | K10: 136834.75 | L10: =K10-J10 -> 7914
A11: Cash Withdrawal & bank charges | B11: 18/12/2024 | D11: 98550 | E11: =C11+D11 -> 98550 | F11: =SUM(D9:D11) -> 148520 | I11: 45809 | J11: =K10 -> 136834.75 | K11: 146061.75 | L11: =K11-J11 -> 9227
A12: Cash Withdrawal & bank charges | B12: 45962 | D12: 8900 | E12: =C12+D12 -> 8900 | I12: 45839 | J12: =K11 -> 146061.75 | K12: 153212.75 | L12: =K12-J12 -> 7151
A13: Cash Withdrawal & bank charges | B13: 18/1/2025 | D13: 33600 | E13: =C13+D13 -> 33600 | I13: 45870 | J13: =K12 -> 153212.75 | K13: 143106.75 | L13: =K13-J13+F29 -> 10314
A14: Cash Withdrawal & bank charges | B14: 25/1/2025 | D14: 9400 | E14: =C14+D14 -> 9400 | I14: 45901 | J14: =K13 -> 143106.75 | K14: 181171.75 | L14: =K14-J14+F33 -> 157245
A15: Cash Withdrawal & bank charges | B15: 30/1/2025 | D15: 61600 | E15: =C15+D15 -> 61600 | F15: =SUM(D12:D15) -> 113500 | I15: 45931 | J15: =K14 -> 181171.75 | K15: 147162.75 | L15: =K15-J15+F38 -> 53681
A16: Cash Withdrawal & bank charges | B16: 13/02/2025 | C16: =63+315 -> 378 | E16: =C16+D16 -> 378
A17: Cash Withdrawal & bank charges | B17: 14/02/2025 | D17: =18950 -> 18950 | E17: =C17+D17 -> 18950
A18: Cash Withdrawal & bank charges | B18: 21/02/2025 | D18: 18250 | E18: =C18+D18 -> 18250
A19: Cash Withdrawal & bank charges | B19: 28/02/2025 | D19: =33350 -> 33350 | E19: =C19+D19 -> 33350 | F19: =C16+D17+D18+D19 -> 70928
A20: Cash Withdrawal & bank charges | B20: 45841 | C20: =42+210 -> 252 | D20: 49300 | E20: =C20+D20 -> 49552
A21: Cash Withdrawal & bank charges | B21: 15/3/2025 | D21: 12420 | E21: =C21+D21 -> 12420
A22: Cash Withdrawal & bank charges | B22: 21/3/2025 | D22: 10070 | E22: =C22+D22 -> 10070
A23: Cash Withdrawal & bank charges | B23: 29/3/2025 | D23: =9450 -> 9450 | E23: =C23+D23 -> 9450 | F23: =C20+D20+D21+D22+D23 -> 81492
A24: Cash Withdrawal & bank charges | B24: 45751 | D24: =13850 -> 13850 | E24: =C24+D24 -> 13850
A25: Cash Withdrawal & bank charges | B25: 45995 | C25: =30+200 -> 230 | D25: =17200 -> 17200 | E25: =C25+D25 -> 17430
A26: Cash Withdrawal & bank charges | B26: 19/4/2025 | C26: =30+200 -> 230 | D26: =11620 -> 11620 | E26: =C26+D26 -> 11850
A27: Cash Withdrawal & bank charges | B27: 26/4/2025 | C27: =30+200 -> 230 | D27: =27800 -> 27800 | E27: =C27+D27 -> 28030
A28: Cash Withdrawal & bank charges | B28: 30/4/2025 | C28: =30+200 -> 230 | D28: =74200 -> 74200 | E28: =C28+D28 -> 74430 | F28: =SUM(D24:D28)+SUM(C25:C28) -> 145590
A29: Cash Withdrawal & bank charges | B29: 27/08/2025 | C29: =30+200 -> 230 | D29: =20190 -> 20190 | E29: =C29+D29 -> 20420 | F29: =E29 -> 20420
A30: Cash Withdrawal & bank charges | B30: 45756 | C30: =30+200 -> 230 | D30: =26100 -> 26100 | E30: =C30+D30 -> 26330
A31: Cash Withdrawal & bank charges | B31: 46000 | C31: =30+200 -> 230 | D31: =24970 -> 24970 | E31: =C31+D31 -> 25200
A32: Cash Withdrawal & bank charges | B32: 19/9/2025 | C32: =30+200 -> 230 | D32: =36600 -> 36600 | E32: =C32+D32 -> 36830
A33: Cash Withdrawal & bank charges | B33: 25/9/2025 | C33: =30+200 -> 230 | D33: =30590 -> 30590 | E33: =C33+D33 -> 30820 | F33: =C30+C31+C32+C33+D30+D31+D32+D33 -> 119180
A34: Cash Withdrawal & bank charges | B34: 45726 | C34: =30+200 -> 230 | D34: =9850 -> 9850 | E34: =C34+D34 -> 10080
A35: Cash Withdrawal & bank charges | B35: 45971 | C35: =30+200 -> 230 | D35: =8650 -> 8650 | E35: =C35+D35 -> 8880
A36: Cash Withdrawal & bank charges | B36: 16/10/2025 | C36: =30+200 -> 230 | D36: =14240 -> 14240 | E36: =C36+D36 -> 14470
A37: Cash Withdrawal & bank charges | B37: 24/10/2025 | C37: =30+200 -> 230 | D37: =20000 -> 20000 | E37: =C37+D37 -> 20230
A38: Cash Withdrawal & bank charges | B38: 30/10/2025 | C38: =30+200 -> 230 | D38: =33800 -> 33800 | E38: =C38+D38 -> 34030 | F38: =C34+C35+C36+C37+C38+D34+D35+D36+D37+D38 -> 87690
A39: Total | C39: =SUM(C4:C38) -> 4858 | D39: =SUM(D4:D38) -> 882410 | E39: =SUM(E4:E38) -> 887268 | F39: =G40-G3+E39 -> 785245
A40: Closing Balance (as per bank statement on 30/10/2025) | G40: 147162.75

Sheet All Transactions
A2: TRANSPORT AND COMMUNICATION | E2: MINISTRIES EXPENSES | H2: INSTRUMENT SERVICING AND REPAIR
A3: • AIRTIME | B3: =26460+600 -> 27060 | E3: INTERCESSORY | F3: 8670 | H3: • POWER AMPS REPAIR | I3: 19000
A4: • TRANSPORT | B4: 6250 | E4: EVANGELISM | F4: 19395 | H4: • SPEAKERS REPAIR + COIL | I4: 8700
A5: TOTAL FINANCIAL COSTS | B5: =SUM(B3:B4) -> 33310 | E5: CHILDREN | F5: 24055 | H5: • SPEAKER + KEYBOARD REPAIR | I5: 7600
E6: USHERING | F6: 3560 | H6: • POWER AMP REPAIR | I6: 1500
A7: MONEY BANKED BY MINISTRIES-RAISED E Team | E7: DISCIPLESHIP | F7: 33890 | H7: • 1 AMP REPAIR | I7: 14500
A8: W.E.S.O | B8: 29275 | C8: WITHDREW | E8: TECHNICAL | F8: 2500 | H8: • SPEAKERS REPAIR(8) | I8: 23300
A9: U.E.T | B9: 53500 | C9: WITHDREW | E9: MUSIC | F9: 26775 | H9: • TUTOR REPAIR | I9: 850
A10: TECHNICAL MINISTRY | B10: 2000 | C10: WITHDREW | E10: HOSPITALITY (Include TVET expenses) | F10: =38565+3632 -> 42197 | H10: • 2 MIXER SERVICING | I10: 6000
A11: U.E.T | B11: 7790 | C11: WITHDREW | E11: EDITORIAL | F11: 5380 | H11: • POWER AMP REPAIR | I11: 14000
A12: CHOSEN CLASS | B12: 500 | C12: WITHDREW | E12: WELFARE | F12: 14331 | H12: INSTRUMENT SERVICING | I12: 95450
A13: TOTAL | B13: =SUM(B8:B12) -> 93065 | E13: BEST P/BIBLE STUDY | F13: 4700 | H13: 1 POWER EXTENSION | I13: 550
E14: VUKA FYT | F14: 9000 | H14: 2 BASS DRUM MEMBRANE | I14: 6000
A15: MISSIONS | E15: DEAN’S OFFICE | F15: 17000 | H15: CRUSH | I15: 6000
A16: • WESO | B16: 29275 | E16: WELFARE WEEK | F16: 1850 | H16: DRUM TOMS REPAIR | I16: 1000
A17: • UET | B17: 53500 | E17: ANZA FTY | F17: 16120 | H17: SOUND REINFORCEMET | I17: 15500
A18: • MISSION SUPPORT FROM CU | B18: 13730 | E18: TOTAL | F18: =SUM(F3:F17) -> 229423 | H18: • SD CARD | I18: 3500
A19: • NET | B19: 90126 | E19: OTHER EXPENSES | H19: • PRINTER INKS+SERVINCING FEE | I19: 1100
A20: • MKET | B20: 56000 | E20: Stationery (Envelopes,printing papers & pens.Decos) | F20: 6755 | H20: • WEB HOSTING+DOMAIN 3,500
A21: • RET | B21: 48400 | E21: TOTAL | F21: =SUM(F20:F20) -> 6755 | H21: • OFFICE PRINTER-(INK+ROLERS+LABOUR+TRNSP) | I21: 4000
A22: • MISSION SUPPORT FROM CU | B22: 15000 | H22: TOTAL | I22: =SUM(I3:I12) -> 190900
A23: TOTAL | B23: =SUM(B16:B22) -> 306031 | E23: • TOTAL FUNDRAISE CONTRIBUTION | F23: 240323.67
A24: FOCUS AND RSEC | E24: PURCHASE OF INSTRUMENTS | H24: HOSPITALITY
A25: • FOCUS TITHE | B25: 50975 | E25: • TRANSPORTATION COSTS | F25: 9880 | H25: • LINEN | I25: 800
A26: • RSEC KITTY | B26: 4000 | E26: • 2 PCS BASS SPEAKERS | F26: 84000 | H26: • DISHES PROJECT | I26: 6400
A27: • BIBLE STUDY CO-ORDINATOR SUMMIT | B27: 900 | E27: • 2 PCS FULL RANGE SPEAKERS | F27: 82000 | H27: TOTAL | I27: =SUM(I25:I26) -> 7200
A28: TOTAL | B28: =SUM(B25:B27) -> 55875 | E28: • 1 PC POWER AMPLIFIER | F28: 53000
A29: WORKING ACCOUNT BALANCE | B29: KSH. 100,117 | E29: • 2 PAIRS ENERGIZER BATTERIES | F29: 3000 | H29: USHERING
E30: • 2 MP BATTERIES | F30: 1000 | H30: • LINEN PROJECT | I30: 4000
E31: • MP CHARGER | F31: 500 | H31: • OFFERING KITS | I31: 750
A32: WELFARE ACCOUNT BALANCE | B32: KSH. 46,0000 | E32: • MIXER SERVICING | F32: 2000 | H32: • TABLE REPAIR | I32: 1500
A33: FIXED ACCOUNT BALANCE. | E33: • MIC SPONCES | F33: 800 | H33: • OFFICE CLEANERS | I33: 750
A34: DEPT | E34: • DRUM KICK PEDAL | F34: 4000 | H34: TOTAL | I34: =SUM(I30:I33) -> 7000
A35: • WITHDREW TO SUPPORT NET MISSION. | B35: 74000 | E35: • TRANSACTION COSTS | F35: 143
A36: 25,000 REFUNDED | E36: 0 | F36: =SUM(F25:F35) -> 240323 | H36: DISCIPLESHIP MINISTRY
A37: DEPT KSH. 49,000 | H37: • SNAKE LIGHTS | I37: 3500
E38: APPRECIATION & ACCOMODATION | H38: • HOLY COMMUNION | I38: 4175
E39: • MINISTERS APPR | F39: 89000 | H39: • BAPTISM | I39: 3000
E40: • ACCOMODATION | F40: 13500 | H40: TOTAL | I40: =SUM(I37:I39) -> 10675
E41: • TOTAL | F41: 102500

Sheet CU Income Summary
A1: MAASAI MARA UNIVERSITY CU INCOME 2024/2025 SPIRITUAL YEAR
A2: No. | B2: Income description | C2: 45597 | D2: 45627 | E2: 45658 | F2: 45689 | G2: 45717 | H2: 45748 | I2: 45778 | J2: 45809 | K2: 45839 | L2: 45870 | M2: 45901 | N2: 45931 | O2: Total
A3: 1 | B3: Tithe/offerings & E team deposit | C3: 65088 | D3: 47001 | E3: 110572 | F3: 96019 | G3: 94408 | H3: 126625 | I3: 7914 | J3: 9227 | K3: 7151 | L3: 10314 | M3: 157245 | N3: 53681 | O3: =SUM(C3:N3) -> 785245
A4: 3 | B4: Sound Fundraiser | M4: 240323.67 | O4: =SUM(C4:N4) -> 240323.67
B5: TOTAL | C5: =SUM(C3:C4) -> 65088 | D5: =SUM(D3:D4) -> 47001 | E5: =SUM(E3:E4) -> 110572 | F5: =SUM(F3:F4) -> 96019 | G5: =SUM(G3:G4) -> 94408 | H5: =SUM(H3:H4) -> 126625 | I5: =SUM(I3:I4) -> 7914 | J5: =SUM(J3:J4) -> 9227 | ... N5: =SUM(N3:N4) -> 53681 | O5: =SUM(C5:N5) -> 1025568.7

Sheet Ministry Expenses
A1: MAASAI MARA UNIV CU MINISTRY EXPENSES SUMMARY AS AT 31st October 2025
A2: No | B2: Ministry | C2: Amount Spent
A3: 1 | B3: INTERCESSORY | C3: 8670
A4: 2 | B4: EVANGELISM | C4: 19395
A5: 3 | B5: CHILDREN | C5: 24055
A6: 4 | B6: USHERING | C6: 3560
A7: 5 | B7: DISCIPLESHIP | C7: 33890
A8: 6 | B8: TECHNICAL | C8: 2500
A9: 7 | B9: MUSIC | C9: 26775
A10: 8 | B10: HOSPITALITY (Include TVET expenses) | C10: =38565+3632 -> 42197
A11: 9 | B11: EDITORIAL | C11: 5380
A12: 10 | B12: WELFARE | C12: 14331
A13: 11 | B13: BEST P/BIBLE STUDY | C13: 4700
A14: 12 | B14: VUKA FYT | C14: 9000
A15: 13 | B15: DEAN’S OFFICE | C15: 17000
A16: 14 | B16: WELFARE WEEK | C16: 1850
A17: 15 | B17: ANZA FTY | C17: 16120
B18: TOTAL | C18: =SUM(C3:C17) -> 229423
